BEGIN:VCALENDAR
PRODID:-//App Name//NONSGML v1.0//EN
BEGIN:VEVENT
DTSTART:20230920T130000
DTEND:20230920T130000
SUMMARY:Our Troops Are Ready- a presentation by Brigadier-General J.D.S. Masson, Commander 5th Canadian Division
END:VEVENT
END:VCALENDAR